BEGIN:VCALENDAR
VERSION:2.0
PRODID:-//Cottage Grove Bible Church - ECPv5.1.2.1//NONSGML v1.0//EN
CALSCALE:GREGORIAN
METHOD:PUBLISH
X-WR-CALNAME:Cottage Grove Bible Church
X-ORIGINAL-URL:https://cgbible.org
X-WR-CALDESC:Events for Cottage Grove Bible Church
BEGIN:VTIMEZONE
TZID:America/Los_Angeles
BEGIN:DAYLIGHT
TZOFFSETFROM:-0800
TZOFFSETTO:-0700
TZNAME:PDT
DTSTART:20200308T100000
END:DAYLIGHT
BEGIN:STANDARD
TZOFFSETFROM:-0700
TZOFFSETTO:-0800
TZNAME:PST
DTSTART:20201101T090000
END:STANDARD
END:VTIMEZONE
BEGIN:VEVENT
DTSTART;TZID=America/Los_Angeles:20200628T093000
DTEND;TZID=America/Los_Angeles:20200628T100000
DTSTAMP:20260421T143036
CREATED:20200526T231956Z
LAST-MODIFIED:20200625T171014Z
UID:1813-1593336600-1593338400@cgbible.org
SUMMARY:Worship Service with Streaming
DESCRIPTION:DUE TO THE CORONAVIRUS RESTRICTIONS\, this service will be limited to 50. \n
URL:https://cgbible.org/event/worship-with-streaming-2/
CATEGORIES:Church Service
END:VEVENT
END:VCALENDAR