BEGIN:VCALENDAR
VERSION:2.0
PRODID:-//Cottage Grove Bible Church - ECPv5.1.2.1//NONSGML v1.0//EN
CALSCALE:GREGORIAN
METHOD:PUBLISH
X-WR-CALNAME:Cottage Grove Bible Church
X-ORIGINAL-URL:https://cgbible.org
X-WR-CALDESC:Events for Cottage Grove Bible Church
BEGIN:VTIMEZONE
TZID:America/Los_Angeles
BEGIN:DAYLIGHT
TZOFFSETFROM:-0800
TZOFFSETTO:-0700
TZNAME:PDT
DTSTART:20210314T100000
END:DAYLIGHT
BEGIN:STANDARD
TZOFFSETFROM:-0700
TZOFFSETTO:-0800
TZNAME:PST
DTSTART:20211107T090000
END:STANDARD
END:VTIMEZONE
BEGIN:VEVENT
DTSTART;VALUE=DATE:20210820
DTEND;VALUE=DATE:20210823
DTSTAMP:20260422T222122
CREATED:20210807T164244Z
LAST-MODIFIED:20210807T164244Z
UID:3818-1629417600-1629676799@cgbible.org
SUMMARY:WOE Awana Grand Prix
DESCRIPTION:VOLUNTEERS are needed to help with the Awana Grand Prix. Free cars are given to children ages 4-14 to race on Sunday; you can help the children build their cars! Help is needed with registration\, cutting\, sawing\, sanding\, and painting. \n
URL:https://cgbible.org/event/woe-awana-grand-prix/
END:VEVENT
END:VCALENDAR