BEGIN:VCALENDAR
VERSION:2.0
PRODID:-//Cottage Grove Bible Church - ECPv5.1.2.1//NONSGML v1.0//EN
CALSCALE:GREGORIAN
METHOD:PUBLISH
X-WR-CALNAME:Cottage Grove Bible Church
X-ORIGINAL-URL:https://cgbible.org
X-WR-CALDESC:Events for Cottage Grove Bible Church
BEGIN:VTIMEZONE
TZID:America/Los_Angeles
BEGIN:DAYLIGHT
TZOFFSETFROM:-0800
TZOFFSETTO:-0700
TZNAME:PDT
DTSTART:20210314T100000
END:DAYLIGHT
BEGIN:STANDARD
TZOFFSETFROM:-0700
TZOFFSETTO:-0800
TZNAME:PST
DTSTART:20211107T090000
END:STANDARD
END:VTIMEZONE
BEGIN:VEVENT
DTSTART;TZID=America/Los_Angeles:20210117T093000
DTEND;TZID=America/Los_Angeles:20210117T103000
DTSTAMP:20260419T235514
CREATED:20210107T175916Z
LAST-MODIFIED:20210107T175916Z
UID:2844-1610875800-1610879400@cgbible.org
SUMMARY:Sunday School - In Person
DESCRIPTION:
URL:https://cgbible.org/event/sunday-school-in-person/
CATEGORIES:Sunday Classes
END:VEVENT
END:VCALENDAR