BEGIN:VCALENDAR
VERSION:2.0
PRODID:-//Cottage Grove Bible Church - ECPv5.1.2.1//NONSGML v1.0//EN
CALSCALE:GREGORIAN
METHOD:PUBLISH
X-WR-CALNAME:Cottage Grove Bible Church
X-ORIGINAL-URL:https://cgbible.org
X-WR-CALDESC:Events for Cottage Grove Bible Church
BEGIN:VTIMEZONE
TZID:America/Los_Angeles
BEGIN:DAYLIGHT
TZOFFSETFROM:-0800
TZOFFSETTO:-0700
TZNAME:PDT
DTSTART:20220313T100000
END:DAYLIGHT
BEGIN:STANDARD
TZOFFSETFROM:-0700
TZOFFSETTO:-0800
TZNAME:PST
DTSTART:20221106T090000
END:STANDARD
END:VTIMEZONE
BEGIN:VEVENT
DTSTART;TZID=America/Los_Angeles:20220707T093000
DTEND;TZID=America/Los_Angeles:20220707T110000
DTSTAMP:20260423T051908
CREATED:20220318T175508Z
LAST-MODIFIED:20220318T175508Z
UID:5129-1657186200-1657191600@cgbible.org
SUMMARY:Prayer Meeting
DESCRIPTION:Meets in the Albin Addition\, room 2. \n
URL:https://cgbible.org/event/prayer-meeting-86/
CATEGORIES:Prayer Meetings
END:VEVENT
END:VCALENDAR