BEGIN:VCALENDAR
VERSION:2.0
PRODID:-//Cottage Grove Bible Church - ECPv5.1.2.1//NONSGML v1.0//EN
CALSCALE:GREGORIAN
METHOD:PUBLISH
X-WR-CALNAME:Cottage Grove Bible Church
X-ORIGINAL-URL:https://cgbible.org
X-WR-CALDESC:Events for Cottage Grove Bible Church
BEGIN:VTIMEZONE
TZID:America/Los_Angeles
BEGIN:DAYLIGHT
TZOFFSETFROM:-0800
TZOFFSETTO:-0700
TZNAME:PDT
DTSTART:20210314T100000
END:DAYLIGHT
BEGIN:STANDARD
TZOFFSETFROM:-0700
TZOFFSETTO:-0800
TZNAME:PST
DTSTART:20211107T090000
END:STANDARD
END:VTIMEZONE
BEGIN:VEVENT
DTSTART;TZID=America/Los_Angeles:20211222T080000
DTEND;TZID=America/Los_Angeles:20211222T170000
DTSTAMP:20260421T162233
CREATED:20211122T195355Z
LAST-MODIFIED:20211122T195355Z
UID:4296-1640160000-1640192400@cgbible.org
SUMMARY:NO AWANA this week
DESCRIPTION:
URL:https://cgbible.org/event/no-awana-this-week-5/
CATEGORIES:Children's Event,Special Event
END:VEVENT
END:VCALENDAR