BEGIN:VCALENDAR
VERSION:2.0
PRODID:-//Cottage Grove Bible Church - ECPv5.1.2.1//NONSGML v1.0//EN
CALSCALE:GREGORIAN
METHOD:PUBLISH
X-WR-CALNAME:Cottage Grove Bible Church
X-ORIGINAL-URL:https://cgbible.org
X-WR-CALDESC:Events for Cottage Grove Bible Church
BEGIN:VTIMEZONE
TZID:America/Los_Angeles
BEGIN:DAYLIGHT
TZOFFSETFROM:-0800
TZOFFSETTO:-0700
TZNAME:PDT
DTSTART:20210314T100000
END:DAYLIGHT
BEGIN:STANDARD
TZOFFSETFROM:-0700
TZOFFSETTO:-0800
TZNAME:PST
DTSTART:20211107T090000
END:STANDARD
END:VTIMEZONE
BEGIN:VEVENT
DTSTART;TZID=America/Los_Angeles:20211128T140000
DTEND;TZID=America/Los_Angeles:20211128T150000
DTSTAMP:20260422T133636
CREATED:20211122T185548Z
LAST-MODIFIED:20211122T191101Z
UID:4209-1638108000-1638111600@cgbible.org
SUMMARY:Church Decorating (Rescheduled from Saturday)
DESCRIPTION:Come help us decorate the church for Christmas! \n
URL:https://cgbible.org/event/ladies-bible-study-with-anita-lee/
CATEGORIES:Special Event
END:VEVENT
END:VCALENDAR