BEGIN:VCALENDAR
VERSION:2.0
PRODID:-//Cottage Grove Bible Church - ECPv5.1.2.1//NONSGML v1.0//EN
CALSCALE:GREGORIAN
METHOD:PUBLISH
X-WR-CALNAME:Cottage Grove Bible Church
X-ORIGINAL-URL:https://cgbible.org
X-WR-CALDESC:Events for Cottage Grove Bible Church
BEGIN:VTIMEZONE
TZID:America/Los_Angeles
BEGIN:DAYLIGHT
TZOFFSETFROM:-0800
TZOFFSETTO:-0700
TZNAME:PDT
DTSTART:20200308T100000
END:DAYLIGHT
BEGIN:STANDARD
TZOFFSETFROM:-0700
TZOFFSETTO:-0800
TZNAME:PST
DTSTART:20201101T090000
END:STANDARD
END:VTIMEZONE
BEGIN:VEVENT
DTSTART;TZID=America/Los_Angeles:20200701T103000
DTEND;TZID=America/Los_Angeles:20200701T120000
DTSTAMP:20260421T215718
CREATED:20200605T154200Z
LAST-MODIFIED:20200625T165730Z
UID:1897-1593599400-1593604800@cgbible.org
SUMMARY:NO Ladies Bible Study
DESCRIPTION:Meets in the Albin Addition\, Room 2\, with Anita Lee. We are studying the book of Titus. \n
URL:https://cgbible.org/event/ladies-bible-study-6/
END:VEVENT
END:VCALENDAR