BEGIN:VCALENDAR
VERSION:2.0
PRODID:-//Cottage Grove Bible Church - ECPv5.1.2.1//NONSGML v1.0//EN
CALSCALE:GREGORIAN
METHOD:PUBLISH
X-WR-CALNAME:Cottage Grove Bible Church
X-ORIGINAL-URL:https://cgbible.org
X-WR-CALDESC:Events for Cottage Grove Bible Church
BEGIN:VTIMEZONE
TZID:America/Los_Angeles
BEGIN:DAYLIGHT
TZOFFSETFROM:-0800
TZOFFSETTO:-0700
TZNAME:PDT
DTSTART:20200308T100000
END:DAYLIGHT
BEGIN:STANDARD
TZOFFSETFROM:-0700
TZOFFSETTO:-0800
TZNAME:PST
DTSTART:20201101T090000
END:STANDARD
END:VTIMEZONE
BEGIN:VEVENT
DTSTART;TZID=America/Los_Angeles:20200708T103000
DTEND;TZID=America/Los_Angeles:20200708T120000
DTSTAMP:20260422T011631
CREATED:20200526T234100Z
LAST-MODIFIED:20200605T154001Z
UID:1847-1594204200-1594209600@cgbible.org
SUMMARY:Ladies Bible Study
DESCRIPTION:Ladies Bible Study with Anita Lee meets in the Albin Addition\, room 2. We will be studying the book of Titus. \n
URL:https://cgbible.org/event/ladies-bible-study-5/
CATEGORIES:Bible Studies
END:VEVENT
END:VCALENDAR