BEGIN:VCALENDAR
VERSION:2.0
PRODID:-//Cottage Grove Bible Church - ECPv5.1.2.1//NONSGML v1.0//EN
CALSCALE:GREGORIAN
METHOD:PUBLISH
X-WR-CALNAME:Cottage Grove Bible Church
X-ORIGINAL-URL:https://cgbible.org
X-WR-CALDESC:Events for Cottage Grove Bible Church
BEGIN:VTIMEZONE
TZID:America/Los_Angeles
BEGIN:DAYLIGHT
TZOFFSETFROM:-0800
TZOFFSETTO:-0700
TZNAME:PDT
DTSTART:20220313T100000
END:DAYLIGHT
BEGIN:STANDARD
TZOFFSETFROM:-0700
TZOFFSETTO:-0800
TZNAME:PST
DTSTART:20221106T090000
END:STANDARD
END:VTIMEZONE
BEGIN:VEVENT
DTSTART;TZID=America/Los_Angeles:20220905T110000
DTEND;TZID=America/Los_Angeles:20220905T140000
DTSTAMP:20260423T174953
CREATED:20220817T183452Z
LAST-MODIFIED:20220903T232148Z
UID:7312-1662375600-1662386400@cgbible.org
SUMMARY:Labor Day Potluck Picnic at Istador home
DESCRIPTION:Join us for a fun time of food and fellowship! We will meet at the Istador home (38659 Lower Bryce Creek Road). Please bring a main dish and a side dish or dessert. \n
URL:https://cgbible.org/event/labor-day-potluck-picnic-at-istador-home/
CATEGORIES:Special Event
END:VEVENT
END:VCALENDAR