BEGIN:VCALENDAR
VERSION:2.0
PRODID:-//Cottage Grove Bible Church - ECPv5.1.2.1//NONSGML v1.0//EN
CALSCALE:GREGORIAN
METHOD:PUBLISH
X-WR-CALNAME:Cottage Grove Bible Church
X-ORIGINAL-URL:https://cgbible.org
X-WR-CALDESC:Events for Cottage Grove Bible Church
BEGIN:VTIMEZONE
TZID:America/Los_Angeles
BEGIN:DAYLIGHT
TZOFFSETFROM:-0800
TZOFFSETTO:-0700
TZNAME:PDT
DTSTART:20220313T100000
END:DAYLIGHT
BEGIN:STANDARD
TZOFFSETFROM:-0700
TZOFFSETTO:-0800
TZNAME:PST
DTSTART:20221106T090000
END:STANDARD
END:VTIMEZONE
BEGIN:VEVENT
DTSTART;TZID=America/Los_Angeles:20220619T140000
DTEND;TZID=America/Los_Angeles:20220619T163000
DTSTAMP:20260422T161912
CREATED:20220317T182829Z
LAST-MODIFIED:20220317T182829Z
UID:5040-1655647200-1655656200@cgbible.org
SUMMARY:Father's Day Skeet Shooting
DESCRIPTION:at Creswell Clay Target Sports. Bring your own gear: ammo\, eye and ear protection\, and your own shotgun. \n
URL:https://cgbible.org/event/fathers-day-skeet-shooting-2/
CATEGORIES:Special Event
END:VEVENT
END:VCALENDAR