BEGIN:VCALENDAR
VERSION:2.0
PRODID:-//Cottage Grove Bible Church - ECPv5.1.2.1//NONSGML v1.0//EN
CALSCALE:GREGORIAN
METHOD:PUBLISH
X-WR-CALNAME:Cottage Grove Bible Church
X-ORIGINAL-URL:https://cgbible.org
X-WR-CALDESC:Events for Cottage Grove Bible Church
BEGIN:VTIMEZONE
TZID:America/Los_Angeles
BEGIN:DAYLIGHT
TZOFFSETFROM:-0800
TZOFFSETTO:-0700
TZNAME:PDT
DTSTART:20200308T100000
END:DAYLIGHT
BEGIN:STANDARD
TZOFFSETFROM:-0700
TZOFFSETTO:-0800
TZNAME:PST
DTSTART:20201101T090000
END:STANDARD
END:VTIMEZONE
BEGIN:VEVENT
DTSTART;TZID=America/Los_Angeles:20200621T140000
DTEND;TZID=America/Los_Angeles:20200621T160000
DTSTAMP:20260421T112707
CREATED:20200527T001814Z
LAST-MODIFIED:20200619T153227Z
UID:1872-1592748000-1592755200@cgbible.org
SUMMARY:Father's Day Men's Outing
DESCRIPTION:All men and boys are welcome to join us at Creswell Clay Target Sports for an afternoon of skeet shooting. \nBring your own gear\, eye and ear protection. \nCost: $2 non-member fee \nPLUS $5 per token for 27 birds (ages 10-18) \nand $8 per token for 27 birds (adults) \n
URL:https://cgbible.org/event/fathers-day-mens-outing/
CATEGORIES:Special Event
END:VEVENT
END:VCALENDAR