BEGIN:VCALENDAR
VERSION:2.0
PRODID:-//Cottage Grove Bible Church - ECPv5.1.2.1//NONSGML v1.0//EN
CALSCALE:GREGORIAN
METHOD:PUBLISH
X-WR-CALNAME:Cottage Grove Bible Church
X-ORIGINAL-URL:https://cgbible.org
X-WR-CALDESC:Events for Cottage Grove Bible Church
BEGIN:VTIMEZONE
TZID:America/Los_Angeles
BEGIN:DAYLIGHT
TZOFFSETFROM:-0800
TZOFFSETTO:-0700
TZNAME:PDT
DTSTART:20210314T100000
END:DAYLIGHT
BEGIN:STANDARD
TZOFFSETFROM:-0700
TZOFFSETTO:-0800
TZNAME:PST
DTSTART:20211107T090000
END:STANDARD
END:VTIMEZONE
BEGIN:VEVENT
DTSTART;TZID=America/Los_Angeles:20210217T183000
DTEND;TZID=America/Los_Angeles:20210217T200000
DTSTAMP:20260421T082809
CREATED:20210107T174014Z
LAST-MODIFIED:20210107T174014Z
UID:2808-1613586600-1613592000@cgbible.org
SUMMARY:AWANA\, K-6th grades (Theme: Awana Store)
DESCRIPTION:Visit our Awana Store to spend the Awana Bucks you earn by passing sections. \n
URL:https://cgbible.org/event/awana-k-6th-grades-theme-awana-store/
CATEGORIES:Children's Event
END:VEVENT
END:VCALENDAR