BEGIN:VCALENDAR
VERSION:2.0
PRODID:-//Cottage Grove Bible Church - ECPv5.1.2.1//NONSGML v1.0//EN
CALSCALE:GREGORIAN
METHOD:PUBLISH
X-WR-CALNAME:Cottage Grove Bible Church
X-ORIGINAL-URL:https://cgbible.org
X-WR-CALDESC:Events for Cottage Grove Bible Church
BEGIN:VTIMEZONE
TZID:America/Los_Angeles
BEGIN:DAYLIGHT
TZOFFSETFROM:-0800
TZOFFSETTO:-0700
TZNAME:PDT
DTSTART:20220313T100000
END:DAYLIGHT
BEGIN:STANDARD
TZOFFSETFROM:-0700
TZOFFSETTO:-0800
TZNAME:PST
DTSTART:20221106T090000
END:STANDARD
END:VTIMEZONE
BEGIN:VEVENT
DTSTART;TZID=America/Los_Angeles:20220209T183000
DTEND;TZID=America/Los_Angeles:20220209T200000
DTSTAMP:20260425T130606
CREATED:20220131T191645Z
LAST-MODIFIED:20220131T191645Z
UID:4681-1644431400-1644436800@cgbible.org
SUMMARY:Awana - Heart to Heart
DESCRIPTION:Wear hearts – on your face\, on  your clothes\, etc. and get a prize. \n
URL:https://cgbible.org/event/awana-heart-to-heart/
CATEGORIES:Children's Event
END:VEVENT
END:VCALENDAR