BEGIN:VCALENDAR
VERSION:2.0
PRODID:-//Cottage Grove Bible Church - ECPv5.1.2.1//NONSGML v1.0//EN
CALSCALE:GREGORIAN
METHOD:PUBLISH
X-WR-CALNAME:Cottage Grove Bible Church
X-ORIGINAL-URL:https://cgbible.org
X-WR-CALDESC:Events for Cottage Grove Bible Church
BEGIN:VTIMEZONE
TZID:America/Los_Angeles
BEGIN:DAYLIGHT
TZOFFSETFROM:-0800
TZOFFSETTO:-0700
TZNAME:PDT
DTSTART:20240310T100000
END:DAYLIGHT
BEGIN:STANDARD
TZOFFSETFROM:-0700
TZOFFSETTO:-0800
TZNAME:PST
DTSTART:20241103T090000
END:STANDARD
END:VTIMEZONE
BEGIN:VEVENT
DTSTART;TZID=America/Los_Angeles:20240428T094500
DTEND;TZID=America/Los_Angeles:20240428T104500
DTSTAMP:20260420T041145
CREATED:20240313T205512Z
LAST-MODIFIED:20240313T205609Z
UID:12907-1714297500-1714301100@cgbible.org
SUMMARY:Sunday School for All Ages
DESCRIPTION:
URL:https://cgbible.org/event/12907/
CATEGORIES:Sunday Classes
END:VEVENT
END:VCALENDAR